Workbook
Name Core: #REF!
Name Year: '[1]Aus Nat Database 2024'!#REF!

Sheet Title Page
B9: Global Beverage Recycling Dataset
B11: Final Dataset - Summary
B12: Overview
B14: Eunomia Research and Consulting Ltd. was commissioned by the International Aluminium Institute (IAI) in 2026 to update previous work carried out in 2025 to establish the level of recycling achieved for different beverage packaging formats globally. The following dataset contains values for 'collected for recycling' and 'recycling' tonnages and rates for selected countries, and the calculated global rates, for aluminium cans, glass bottles, and PET beverage containers. The countries selected were chosen to cover 80% of the market share for each beverage container format.
B16: Contents
B18: Tab | C18: Description
B19: Aluminium | C19: The tab contains the POM, reported rates, collected for recycling tonnages, collected for recycling rates, recycling tonnages and recycling rates for aluminium cans for the selected countries, along with an indication of data quality. This tab also includes proportions of materials separately collected and calculated loss rates for each country, calculated average regional rates, and the calculated global collected for recycling and recycling rates.
B20: Glass | C20: The tab contains the POM, reported rates, collected for recycling tonnages, collected for recycling rates, recycling tonnages and recycling rates for glass bottles for the selected countries, along with an indication of data quality. This tab also includes proportions of materials separately collected and calculated loss rates for each country, calculated average regional rates, and the calculated global collected for recycling and recycling rates.
B21: PET | C21: The tab contains the POM, reported rates, collected for recycling tonnages, collected for recycling rates, recycling tonnages and recycling rates for PET bottles for the selected countries, along with an indication of data quality. This tab also includes proportions of materials separately collected and calculated loss rates for each country, calculated average regional rates, and the calculated global collected for recycling and recycling rates.

Sheet Aluminium
D3: Aluminium
B4: Country | C4: Region (World Bank Regions) | D4: POM (tonnes)*
B5: Algeria | C5: Middle East and North Africa | D5: 0.56927005
B6: Argentina | C6: Latin America and Caribbean | D6: 0.79
B7: Australia | C7: East Asia and Pacific | D7: 0.64
B8: Brazil | C8: Latin America and Caribbean | D8: 0.971
B9: Cambodia | C9: East Asia and Pacific | D9: 0.9
B10: Canada | C10: North America | D10: 0.73
B11: Chile | C11: Latin America and Caribbean | D11: 0.36
B12: China | C12: East Asia and Pacific | D12: 0.98
B13: Colombia | C13: Latin America and Caribbean | D13: 0.87
B14: Egypt | C14: Middle East and North Africa | D14: 0.75
B15: Ethiopia | C15: Sub-Sharan Africa | D15: 0.72
B16: Europe | C16: Europe and Central Asia | D16: 0.763
... B39: Vietnam | C39: East Asia and Pacific | D39: 0.77
B41: Totals
B42: Totals based on countries in scope (excluding regional averages) | D42: 0.75654893
B43: Totals based on countries in scope (including regional averages) | D43: 0.75547374
B49: Region | C49: Number of Countries with Data | D49: Regional recycling rate
B50: Middle East and North Africa | C50: 4 | D50: 0.56927005
B51: Latin America and Caribbean | C51: 5 | D51: 0.94069575
B52: East Asia and Pacific | C52: 8 | D52: 0.94187578
B53: North America | C53: 2 | D53: 0.45324468
B54: Sub-Sharan Africa | C54: 1 | D54: 0.60606061
B55: South Asia | C55: 1 | D55: 0.83902444
B56: Europe and Central Asia | C56: 3 | D56: 0.7544471

Sheet Glass
D3: Glass
B4: Country | C4: Region (World Bank Regions) | D4: Recycled Rate
B5: Algeria | C5: Middle East and North Africa | D5: 0.29831398
B6: Argentina | C6: Latin America and Caribbean | D6: 0.32240204
B7: Australia | C7: East Asia and Pacific | D7: 0.8
B8: Brazil | C8: Latin America and Caribbean | D8: 0.25
B9: Cambodia | C9: East Asia and Pacific | D9: 0.57213731
B10: Canada | C10: North America | D10: 0.83
B11: Chile | C11: Latin America and Caribbean | D11: 0.23287737
B12: China | C12: East Asia and Pacific | D12: 0.33680611
B13: Colombia | C13: Latin America and Caribbean | D13: 0.40897885
B14: Egypt | C14: Middle East and North Africa | D14: 0.398849
B15: Ethiopia | C15: Sub-Sharan Africa | D15: 0.30290011
B16: Europe | C16: Europe and Central Asia | D16: 0.76167044
... B39: Vietnam | C39: East Asia and Pacific | D39: 0.14
B41: Totals
B42: Totals based on countries in scope (excluding regional averages) | D42: 0.50778697
B43: Totals based on countries in scope (including regional averages) | D43: 0.5111192
B49: Region | C49: Number of Countries with Data | D49: Regional recycling rate
B50: Middle East and North Africa | C50: 4 | D50: 0.398849
B51: Latin America and Caribbean | C51: 5 | D51: 0.26643398
B52: East Asia and Pacific | C52: 9 | D52: 0.56442688
B53: North America | C53: 2 | D53: 0.26836147
B54: Sub-Sharan Africa | C54: 1 | D54: 0.30290011
B55: South Asia | C55: 1 | D55: 0.5773819
B56: Europe and Central Asia | C56: 3 | D56: 0.64493046

Sheet PET
D3: PET
B4: Country | C4: Region (World Bank Regions) | D4: Recycled Rate
B5: China | C5: East Asia and Pacific | D5: 0.791365
B6: Europe | C6: Europe and Central Asia | D6: 0.52973978
B7: United States | C7: North America | D7: 0.1830303
B8: India | C8: South Asia | D8: 0.76
B9: Japan | C9: East Asia and Pacific | D9: 0.851
B10: Mexico | C10: Latin America and Caribbean | D10: 0.50325231
B11: Brazil | C11: Latin America and Caribbean | D11: 0.75883493
B12: Türkiye | C12: Europe and Central Asia | D12: 0.4695303
B13: Pakistan | C13: South Asia | D13: 0.612
B14: South Korea | C14: East Asia and Pacific | D14: 0.6357
B15: Canada | C15: North America | D15: 0.52
B16: Thailand | C16: East Asia and Pacific | D16: 0.2608
... B39: Kazakhstan | C39: Europe and Central Asia | D39: 0.03530303
B41: Totals
B42: Totals based on countries in scope (excluding regional averages) | D42: 0.53759911
B43: Totals based on countries in scope (including regional averages) | D43: 0.53178716
B49: Region | C49: Number of Countries with Data | D49: Regional recycling rate
B50: Middle East and North Africa | C50: 2 | D50: 0.39207518
B51: Latin America and Caribbean | C51: 6 | D51: 0.51155363
B52: East Asia and Pacific | C52: 11 | D52: 0.72313472
B53: North America | C53: 2 | D53: 0.20245427
B54: Sub-Sharan Africa | C54: 3 | D54: 0.290216
B55: South Asia | C55: 2 | D55: 0.74904883
B56: Europe and Central Asia | C56: 4 | D56: 0.47108273

Sheet Reloop POM Values 2024
A1: Country | B1: Material | C1: Tonnes Sold By Country
A2: China | B2: PET | C2: 3536993 | D2: =A2&B2 -> ChinaPET
A3: United States | B3: PET | C3: 2933423.7 | D3: =A3&B3 -> United StatesPET
A4: India | B4: PET | C4: 938668.92 | D4: =A4&B4 -> IndiaPET
A5: Mexico | B5: PET | C5: 724035.27 | D5: =A5&B5 -> MexicoPET
A6: Japan | B6: PET | C6: 603605.44 | D6: =A6&B6 -> JapanPET
A7: Germany | B7: PET | C7: 525533.91 | D7: =A7&B7 -> GermanyPET
A8: Brazil | B8: PET | C8: 440346.1 | D8: =A8&B8 -> BrazilPET
A9: Italy | B9: PET | C9: 412289.21 | D9: =A9&B9 -> ItalyPET
A10: Russia | B10: PET | C10: 368724.39 | D10: =A10&B10 -> RussiaPET
A11: France | B11: PET | C11: 344223.95 | D11: =A11&B11 -> FrancePET
A12: Thailand | B12: PET | C12: 295856.95 | D12: =A12&B12 -> ThailandPET
A13: Indonesia | B13: PET | C13: 277535.43 | D13: =A13&B13 -> IndonesiaPET
... A604: Nauru | B604: Metal | C604: 2.22 | D604: =A604&B604 -> NauruMetal

Sheet Reloop POM Values 2025
A1: Eunomia name | B1: Reloop name | D1: Glass | E1: Metal | F1: PET
A2: Algeria | B2: Algeria | D2: =_xlfn.XLOOKUP(B2,'Reloop Raw Data'!$A$3:$A$75,'Reloop Raw Data'!$C$3:$C$75) -> 145246.55 | E2: =_xlfn.XLOOKUP(B2,'Reloop Raw Data'!$A$3:$A$75,'Reloop Raw Data'!$E$3:$E$75) -> 6976.3231 | F2: =_xlfn.XLOOKUP(B2,'Reloop Raw Data'!$A$3:$A$75,'Reloop Raw Data'!$D$3:$D$75) -> 147687
A3: Argentina | B3: Argentina | D3: =_xlfn.XLOOKUP(B3,'Reloop Raw Data'!$A$3:$A$75,'Reloop Raw Data'!$C$3:$C$75) -> 717483.36 | E3: =_xlfn.XLOOKUP(B3,'Reloop Raw Data'!$A$3:$A$75,'Reloop Raw Data'!$E$3:$E$75) -> 15767.745 | F3: =_xlfn.XLOOKUP(B3,'Reloop Raw Data'!$A$3:$A$75,'Reloop Raw Data'!$D$3:$D$75) -> 136880.36
A4: Australia | B4: Australia | D4: =_xlfn.XLOOKUP(B4,'Reloop Raw Data'!$A$3:$A$75,'Reloop Raw Data'!$C$3:$C$75) -> 1540884.2 | E4: =_xlfn.XLOOKUP(B4,'Reloop Raw Data'!$A$3:$A$75,'Reloop Raw Data'!$E$3:$E$75) -> 49590.104 | F4: =_xlfn.XLOOKUP(B4,'Reloop Raw Data'!$A$3:$A$75,'Reloop Raw Data'!$D$3:$D$75) -> 72793.808
A5: Austria | B5: Austria | C5: EU | D5: =_xlfn.XLOOKUP(B5,'Reloop Raw Data'!$A$3:$A$75,'Reloop Raw Data'!$C$3:$C$75) -> 271960.96 | E5: =_xlfn.XLOOKUP(B5,'Reloop Raw Data'!$A$3:$A$75,'Reloop Raw Data'!$E$3:$E$75) -> 15336.674 | F5: =_xlfn.XLOOKUP(B5,'Reloop Raw Data'!$A$3:$A$75,'Reloop Raw Data'!$D$3:$D$75) -> 33765.998
A6: Belarus | B6: Belarus | D6: =_xlfn.XLOOKUP(B6,'Reloop Raw Data'!$A$3:$A$75,'Reloop Raw Data'!$C$3:$C$75) -> 164460.08 | E6: =_xlfn.XLOOKUP(B6,'Reloop Raw Data'!$A$3:$A$75,'Reloop Raw Data'!$E$3:$E$75) -> 2211.728 | F6: =_xlfn.XLOOKUP(B6,'Reloop Raw Data'!$A$3:$A$75,'Reloop Raw Data'!$D$3:$D$75) -> 29512.966
A7: Belgium | B7: Belgium | C7: EU | D7: =_xlfn.XLOOKUP(B7,'Reloop Raw Data'!$A$3:$A$75,'Reloop Raw Data'!$C$3:$C$75) -> 166652.04 | E7: =_xlfn.XLOOKUP(B7,'Reloop Raw Data'!$A$3:$A$75,'Reloop Raw Data'!$E$3:$E$75) -> 26721.506 | F7: =_xlfn.XLOOKUP(B7,'Reloop Raw Data'!$A$3:$A$75,'Reloop Raw Data'!$D$3:$D$75) -> 68501.657
A8: Bolivia | B8: Bolivia | D8: =_xlfn.XLOOKUP(B8,'Reloop Raw Data'!$A$3:$A$75,'Reloop Raw Data'!$C$3:$C$75) -> 64252.941 | E8: =_xlfn.XLOOKUP(B8,'Reloop Raw Data'!$A$3:$A$75,'Reloop Raw Data'!$E$3:$E$75) -> 4182.1297 | F8: =_xlfn.XLOOKUP(B8,'Reloop Raw Data'!$A$3:$A$75,'Reloop Raw Data'!$D$3:$D$75) -> 33274.537
A9: Brazil | B9: Brazil | D9: =_xlfn.XLOOKUP(B9,'Reloop Raw Data'!$A$3:$A$75,'Reloop Raw Data'!$C$3:$C$75) -> 2750460.1 | E9: =_xlfn.XLOOKUP(B9,'Reloop Raw Data'!$A$3:$A$75,'Reloop Raw Data'!$E$3:$E$75) -> 351152.93 | F9: =_xlfn.XLOOKUP(B9,'Reloop Raw Data'!$A$3:$A$75,'Reloop Raw Data'!$D$3:$D$75) -> 449168.56
A10: Bulgaria | B10: Bulgaria | C10: EU | D10: =_xlfn.XLOOKUP(B10,'Reloop Raw Data'!$A$3:$A$75,'Reloop Raw Data'!$C$3:$C$75) -> 120335.77 | E10: =_xlfn.XLOOKUP(B10,'Reloop Raw Data'!$A$3:$A$75,'Reloop Raw Data'!$E$3:$E$75) -> 7388.5589 | F10: =_xlfn.XLOOKUP(B10,'Reloop Raw Data'!$A$3:$A$75,'Reloop Raw Data'!$D$3:$D$75) -> 41085.872
A11: Cambodia | B11: Cambodia | D11: =_xlfn.XLOOKUP(B11,'Reloop Raw Data'!$A$3:$A$75,'Reloop Raw Data'!$C$3:$C$75) -> 18713.892 | E11: =_xlfn.XLOOKUP(B11,'Reloop Raw Data'!$A$3:$A$75,'Reloop Raw Data'!$E$3:$E$75) -> 36116.485 | F11: =_xlfn.XLOOKUP(B11,'Reloop Raw Data'!$A$3:$A$75,'Reloop Raw Data'!$D$3:$D$75) -> 26355.396
A12: Canada | B12: Canada | D12: =_xlfn.XLOOKUP(B12,'Reloop Raw Data'!$A$3:$A$75,'Reloop Raw Data'!$C$3:$C$75) -> 691712.81 | E12: =_xlfn.XLOOKUP(B12,'Reloop Raw Data'!$A$3:$A$75,'Reloop Raw Data'!$E$3:$E$75) -> 120660.76 | F12: =_xlfn.XLOOKUP(B12,'Reloop Raw Data'!$A$3:$A$75,'Reloop Raw Data'!$D$3:$D$75) -> 175664.93
A13: Chile | B13: Chile | D13: =_xlfn.XLOOKUP(B13,'Reloop Raw Data'!$A$3:$A$75,'Reloop Raw Data'!$C$3:$C$75) -> 305872.33 | E13: =_xlfn.XLOOKUP(B13,'Reloop Raw Data'!$A$3:$A$75,'Reloop Raw Data'!$E$3:$E$75) -> 21092.927 | F13: =_xlfn.XLOOKUP(B13,'Reloop Raw Data'!$A$3:$A$75,'Reloop Raw Data'!$D$3:$D$75) -> 54581.475
A14: China | B14: China | D14: =_xlfn.XLOOKUP(B14,'Reloop Raw Data'!$A$3:$A$75,'Reloop Raw Data'!$C$3:$C$75) -> 5016641 | E14: =_xlfn.XLOOKUP(B14,'Reloop Raw Data'!$A$3:$A$75,'Reloop Raw Data'!$E$3:$E$75) -> 670216.04 | F14: =_xlfn.XLOOKUP(B14,'Reloop Raw Data'!$A$3:$A$75,'Reloop Raw Data'!$D$3:$D$75) -> 3884152
A15: Colombia | B15: Colombia | D15: =_xlfn.XLOOKUP(B15,'Reloop Raw Data'!$A$3:$A$75,'Reloop Raw Data'!$C$3:$C$75) -> 341143.67 | E15: =_xlfn.XLOOKUP(B15,'Reloop Raw Data'!$A$3:$A$75,'Reloop Raw Data'!$E$3:$E$75) -> 25550.595 | F15: =_xlfn.XLOOKUP(B15,'Reloop Raw Data'!$A$3:$A$75,'Reloop Raw Data'!$D$3:$D$75) -> 115825.29
A16: Croatia | B16: Croatia | C16: EU | D16: =_xlfn.XLOOKUP(B16,'Reloop Raw Data'!$A$3:$A$75,'Reloop Raw Data'!$C$3:$C$75) -> 91593.377 | E16: =_xlfn.XLOOKUP(B16,'Reloop Raw Data'!$A$3:$A$75,'Reloop Raw Data'!$E$3:$E$75) -> 6950.7522 | F16: =_xlfn.XLOOKUP(B16,'Reloop Raw Data'!$A$3:$A$75,'Reloop Raw Data'!$D$3:$D$75) -> 15132.729
A17: Cyprus | B17: Cyprus | C17: EU | D17: =_xlfn.XLOOKUP(B17,'Reloop Raw Data'!$A$3:$A$75,'Reloop Raw Data'!$C$3:$C$75) -> 11044.269 | E17: =_xlfn.XLOOKUP(B17,'Reloop Raw Data'!$A$3:$A$75,'Reloop Raw Data'!$E$3:$E$75) -> 1507.4137 | F17: =_xlfn.XLOOKUP(B17,'Reloop Raw Data'!$A$3:$A$75,'Reloop Raw Data'!$D$3:$D$75) -> 3540.3231
A18: Czech Republic | B18: Czech Republic | C18: EU | D18: =_xlfn.XLOOKUP(B18,'Reloop Raw Data'!$A$3:$A$75,'Reloop Raw Data'!$C$3:$C$75) -> 261762.17 | E18: =_xlfn.XLOOKUP(B18,'Reloop Raw Data'!$A$3:$A$75,'Reloop Raw Data'!$E$3:$E$75) -> 17402.156 | F18: =_xlfn.XLOOKUP(B18,'Reloop Raw Data'!$A$3:$A$75,'Reloop Raw Data'!$D$3:$D$75) -> 47273.51
A19: Denmark | B19: Denmark | C19: EU | D19: =_xlfn.XLOOKUP(B19,'Reloop Raw Data'!$A$3:$A$75,'Reloop Raw Data'!$C$3:$C$75) -> 120295.05 | E19: =_xlfn.XLOOKUP(B19,'Reloop Raw Data'!$A$3:$A$75,'Reloop Raw Data'!$E$3:$E$75) -> 21554.535 | F19: =_xlfn.XLOOKUP(B19,'Reloop Raw Data'!$A$3:$A$75,'Reloop Raw Data'!$D$3:$D$75) -> 19301.078
A20: Ecuador | B20: Ecuador | D20: =_xlfn.XLOOKUP(B20,'Reloop Raw Data'!$A$3:$A$75,'Reloop Raw Data'!$C$3:$C$75) -> 142402.79 | E20: =_xlfn.XLOOKUP(B20,'Reloop Raw Data'!$A$3:$A$75,'Reloop Raw Data'!$E$3:$E$75) -> 3384.8594 | F20: =_xlfn.XLOOKUP(B20,'Reloop Raw Data'!$A$3:$A$75,'Reloop Raw Data'!$D$3:$D$75) -> 49251.599
A21: Egypt | B21: Egypt | D21: =_xlfn.XLOOKUP(B21,'Reloop Raw Data'!$A$3:$A$75,'Reloop Raw Data'!$C$3:$C$75) -> 172739.84 | E21: =_xlfn.XLOOKUP(B21,'Reloop Raw Data'!$A$3:$A$75,'Reloop Raw Data'!$E$3:$E$75) -> 29630.464 | F21: =_xlfn.XLOOKUP(B21,'Reloop Raw Data'!$A$3:$A$75,'Reloop Raw Data'!$D$3:$D$75) -> 108735.63
A22: Estonia | B22: Estonia | C22: EU | D22: =_xlfn.XLOOKUP(B22,'Reloop Raw Data'!$A$3:$A$75,'Reloop Raw Data'!$C$3:$C$75) -> 25794.891 | E22: =_xlfn.XLOOKUP(B22,'Reloop Raw Data'!$A$3:$A$75,'Reloop Raw Data'!$E$3:$E$75) -> 2988.8338 | F22: =_xlfn.XLOOKUP(B22,'Reloop Raw Data'!$A$3:$A$75,'Reloop Raw Data'!$D$3:$D$75) -> 3769.0965
A23: Ethiopia | B23: Ethiopia | D23: =_xlfn.XLOOKUP(B23,'Reloop Raw Data'!$A$3:$A$75,'Reloop Raw Data'!$C$3:$C$75) -> 262743.21 | E23: =_xlfn.XLOOKUP(B23,'Reloop Raw Data'!$A$3:$A$75,'Reloop Raw Data'!$E$3:$E$75) -> 3585.1217 | F23: =_xlfn.XLOOKUP(B23,'Reloop Raw Data'!$A$3:$A$75,'Reloop Raw Data'!$D$3:$D$75) -> 14831.879
A24: Finland | B24: Finland | C24: EU | D24: =_xlfn.XLOOKUP(B24,'Reloop Raw Data'!$A$3:$A$75,'Reloop Raw Data'!$C$3:$C$75) -> 70979.072 | E24: =_xlfn.XLOOKUP(B24,'Reloop Raw Data'!$A$3:$A$75,'Reloop Raw Data'!$E$3:$E$75) -> 15782.669 | F24: =_xlfn.XLOOKUP(B24,'Reloop Raw Data'!$A$3:$A$75,'Reloop Raw Data'!$D$3:$D$75) -> 12703.784
A25: France | B25: France | C25: EU | D25: =_xlfn.XLOOKUP(B25,'Reloop Raw Data'!$A$3:$A$75,'Reloop Raw Data'!$C$3:$C$75) -> 2964149.2 | E25: =_xlfn.XLOOKUP(B25,'Reloop Raw Data'!$A$3:$A$75,'Reloop Raw Data'!$E$3:$E$75) -> 70645.272 | F25: =_xlfn.XLOOKUP(B25,'Reloop Raw Data'!$A$3:$A$75,'Reloop Raw Data'!$D$3:$D$75) -> 305513.08
A26: Germany | B26: Germany | C26: EU | D26: =_xlfn.XLOOKUP(B26,'Reloop Raw Data'!$A$3:$A$75,'Reloop Raw Data'!$C$3:$C$75) -> 1912447.3 | E26: =_xlfn.XLOOKUP(B26,'Reloop Raw Data'!$A$3:$A$75,'Reloop Raw Data'!$E$3:$E$75) -> 80145.793 | F26: =_xlfn.XLOOKUP(B26,'Reloop Raw Data'!$A$3:$A$75,'Reloop Raw Data'!$D$3:$D$75) -> 341614.83
A27: Greece | B27: Greece | C27: EU | D27: =_xlfn.XLOOKUP(B27,'Reloop Raw Data'!$A$3:$A$75,'Reloop Raw Data'!$C$3:$C$75) -> 244523.95 | E27: =_xlfn.XLOOKUP(B27,'Reloop Raw Data'!$A$3:$A$75,'Reloop Raw Data'!$E$3:$E$75) -> 16000.229 | F27: =_xlfn.XLOOKUP(B27,'Reloop Raw Data'!$A$3:$A$75,'Reloop Raw Data'!$D$3:$D$75) -> 63812.929
A28: Hungary | B28: Hungary | C28: EU | D28: =_xlfn.XLOOKUP(B28,'Reloop Raw Data'!$A$3:$A$75,'Reloop Raw Data'!$C$3:$C$75) -> 263161.28 | E28: =_xlfn.XLOOKUP(B28,'Reloop Raw Data'!$A$3:$A$75,'Reloop Raw Data'!$E$3:$E$75) -> 20777.159 | F28: =_xlfn.XLOOKUP(B28,'Reloop Raw Data'!$A$3:$A$75,'Reloop Raw Data'!$D$3:$D$75) -> 58678.709
A29: Iceland | B29: Iceland | C29: Europe | D29: =_xlfn.XLOOKUP(B29,'Reloop Raw Data'!$A$3:$A$75,'Reloop Raw Data'!$C$3:$C$75) -> 2625.8391 | E29: =_xlfn.XLOOKUP(B29,'Reloop Raw Data'!$A$3:$A$75,'Reloop Raw Data'!$E$3:$E$75) -> 1542.9268 | F29: =_xlfn.XLOOKUP(B29,'Reloop Raw Data'!$A$3:$A$75,'Reloop Raw Data'!$D$3:$D$75) -> 1467.3707
A30: India | B30: India | D30: =_xlfn.XLOOKUP(B30,'Reloop Raw Data'!$A$3:$A$75,'Reloop Raw Data'!$C$3:$C$75) -> 2802253.9 | E30: =_xlfn.XLOOKUP(B30,'Reloop Raw Data'!$A$3:$A$75,'Reloop Raw Data'!$E$3:$E$75) -> 54901.659 | F30: =_xlfn.XLOOKUP(B30,'Reloop Raw Data'!$A$3:$A$75,'Reloop Raw Data'!$D$3:$D$75) -> 1559087.7
A31: Indonesia | B31: Indonesia | D31: =_xlfn.XLOOKUP(B31,'Reloop Raw Data'!$A$3:$A$75,'Reloop Raw Data'!$C$3:$C$75) -> 180879.73 | E31: =_xlfn.XLOOKUP(B31,'Reloop Raw Data'!$A$3:$A$75,'Reloop Raw Data'!$E$3:$E$75) -> 14711.932 | F31: =_xlfn.XLOOKUP(B31,'Reloop Raw Data'!$A$3:$A$75,'Reloop Raw Data'!$D$3:$D$75) -> 283578.21
A32: Iran | B32: Iran | D32: =_xlfn.XLOOKUP(B32,'Reloop Raw Data'!$A$3:$A$75,'Reloop Raw Data'!$C$3:$C$75) -> 293397.64 | E32: =_xlfn.XLOOKUP(B32,'Reloop Raw Data'!$A$3:$A$75,'Reloop Raw Data'!$E$3:$E$75) -> 24748.301 | F32: =_xlfn.XLOOKUP(B32,'Reloop Raw Data'!$A$3:$A$75,'Reloop Raw Data'!$D$3:$D$75) -> 102782.45
A33: Iraq | B33: Iraq | D33: =_xlfn.XLOOKUP(B33,'Reloop Raw Data'!$A$3:$A$75,'Reloop Raw Data'!$C$3:$C$75) -> 108910.89 | E33: =_xlfn.XLOOKUP(B33,'Reloop Raw Data'!$A$3:$A$75,'Reloop Raw Data'!$E$3:$E$75) -> 43985.016 | F33: =_xlfn.XLOOKUP(B33,'Reloop Raw Data'!$A$3:$A$75,'Reloop Raw Data'!$D$3:$D$75) -> 190034.83
A34: Ireland | B34: Ireland | C34: EU | D34: =_xlfn.XLOOKUP(B34,'Reloop Raw Data'!$A$3:$A$75,'Reloop Raw Data'!$C$3:$C$75) -> 182901.78 | E34: =_xlfn.XLOOKUP(B34,'Reloop Raw Data'!$A$3:$A$75,'Reloop Raw Data'!$E$3:$E$75) -> 13537.759 | F34: =_xlfn.XLOOKUP(B34,'Reloop Raw Data'!$A$3:$A$75,'Reloop Raw Data'!$D$3:$D$75) -> 21476.57
A35: Israel | B35: Israel | D35: =_xlfn.XLOOKUP(B35,'Reloop Raw Data'!$A$3:$A$75,'Reloop Raw Data'!$C$3:$C$75) -> 178813.34 | E35: =_xlfn.XLOOKUP(B35,'Reloop Raw Data'!$A$3:$A$75,'Reloop Raw Data'!$E$3:$E$75) -> 10498.218 | F35: =_xlfn.XLOOKUP(B35,'Reloop Raw Data'!$A$3:$A$75,'Reloop Raw Data'!$D$3:$D$75) -> 27917.627
A36: Italy | B36: Italy | C36: EU | D36: =_xlfn.XLOOKUP(B36,'Reloop Raw Data'!$A$3:$A$75,'Reloop Raw Data'!$C$3:$C$75) -> 2678378 | E36: =_xlfn.XLOOKUP(B36,'Reloop Raw Data'!$A$3:$A$75,'Reloop Raw Data'!$E$3:$E$75) -> 28352.259 | F36: =_xlfn.XLOOKUP(B36,'Reloop Raw Data'!$A$3:$A$75,'Reloop Raw Data'!$D$3:$D$75) -> 376720.08
A37: Japan | B37: Japan | D37: =_xlfn.XLOOKUP(B37,'Reloop Raw Data'!$A$3:$A$75,'Reloop Raw Data'!$C$3:$C$75) -> 1666910.6 | E37: =_xlfn.XLOOKUP(B37,'Reloop Raw Data'!$A$3:$A$75,'Reloop Raw Data'!$E$3:$E$75) -> 320253.08 | F37: =_xlfn.XLOOKUP(B37,'Reloop Raw Data'!$A$3:$A$75,'Reloop Raw Data'!$D$3:$D$75) -> 575610.3
A38: Kazakhstan | B38: Kazakhstan | D38: =_xlfn.XLOOKUP(B38,'Reloop Raw Data'!$A$3:$A$75,'Reloop Raw Data'!$C$3:$C$75) -> 188687.99 | E38: =_xlfn.XLOOKUP(B38,'Reloop Raw Data'!$A$3:$A$75,'Reloop Raw Data'!$E$3:$E$75) -> 12467.844 | F38: =_xlfn.XLOOKUP(B38,'Reloop Raw Data'!$A$3:$A$75,'Reloop Raw Data'!$D$3:$D$75) -> 76467.411
A39: Kuwait | B39: Kuwait | D39: =_xlfn.XLOOKUP(B39,'Reloop Raw Data'!$A$3:$A$75,'Reloop Raw Data'!$C$3:$C$75) -> 53947.515 | E39: =_xlfn.XLOOKUP(B39,'Reloop Raw Data'!$A$3:$A$75,'Reloop Raw Data'!$E$3:$E$75) -> 6267.7337 | F39: =_xlfn.XLOOKUP(B39,'Reloop Raw Data'!$A$3:$A$75,'Reloop Raw Data'!$D$3:$D$75) -> 22039.14
A40: Latvia | B40: Latvia | C40: EU | D40: =_xlfn.XLOOKUP(B40,'Reloop Raw Data'!$A$3:$A$75,'Reloop Raw Data'!$C$3:$C$75) -> 34017.181 | E40: =_xlfn.XLOOKUP(B40,'Reloop Raw Data'!$A$3:$A$75,'Reloop Raw Data'!$E$3:$E$75) -> 2430.0074 | F40: =_xlfn.XLOOKUP(B40,'Reloop Raw Data'!$A$3:$A$75,'Reloop Raw Data'!$D$3:$D$75) -> 6901.7291
...

Sheet Lists
E3: Collection Point
B4: Aluminium beverage containers | E4: POM | F4: Collected for Recycling | G4: Recycling Rate | I4: Materials Covered | K4: Data Quality | L4: Calculation points
B5: Plastic beverage containers | F5: DRS national return rate | G5: DRS national return rate | I5: PET bottles | K5: Red | L5: n/a
B6: Glass beverage containers | F6: Transfer station inputs | G6: Recycled into raw material | I6: All plastic bottles | K6: Amber | L6: Collected and sent to sorting facilities or recycling centres
F7: Sorting facility inputs | G7: Sorting facility outputs | I7: Beverage-specific | K7: Green | L7: Post sorting into bales
F8: Reprocessor inputs | G8: Reprocessor inputs | I8: Packaging Level | K8: No data found | L8: Post relabelling and delacquering
F9: Total beverages collected (multiple streams) | G9: Other | I9: Material level | L9: Post melting and cast into ingots
F10: Other | G10: Not specified | I10: Not specified | L10: Sheet ready
F11: Not specified | I11: Other | L11: No description of calculation point

Sheet Reloop Raw Data
A1: Provided by Jason 26.08.26 | B1: Tonnes
A2: Country | B2: Glass (NR) | C2: Glass NR | D2: PET | E2: Metal
A3: Algeria | B3: 145246.55 | C3: =B3 -> 145246.55 | D3: 147687 | E3: 6976.3231
A4: Argentina | B4: 717483.36 | C4: =B4 -> 717483.36 | D4: 136880.36 | E4: 15767.745
A5: Australia | B5: 1540884.2 | C5: =B5 -> 1540884.2 | D5: 72793.808 | E5: 49590.104
A6: Austria | B6: 271960.96 | C6: =B6 -> 271960.96 | D6: 33765.998 | E6: 15336.674
A7: Belarus | B7: 164460.08 | C7: =B7 -> 164460.08 | D7: 29512.966 | E7: 2211.728
A8: Belgium | B8: 166652.04 | C8: =B8 -> 166652.04 | D8: 68501.657 | E8: 26721.506
A9: Bolivia | B9: 64252.941 | C9: =B9 -> 64252.941 | D9: 33274.537 | E9: 4182.1297
A10: Brazil | B10: 2750460.1 | C10: =B10 -> 2750460.1 | D10: 449168.56 | E10: 351152.93
A11: Bulgaria | B11: 120335.77 | C11: =B11 -> 120335.77 | D11: 41085.872 | E11: 7388.5589
A12: Cambodia | B12: 18713.892 | C12: =B12 -> 18713.892 | D12: 26355.396 | E12: 36116.485
A13: Canada | B13: 691712.81 | C13: =B13 -> 691712.81 | D13: 175664.93 | E13: 120660.76
A14: Chile | B14: 305872.33 | C14: =B14 -> 305872.33 | D14: 54581.475 | E14: 21092.927
... A75: Vietnam | B75: 117967.13 | C75: =B75 -> 117967.13 | D75: 139229.93 | E75: 142360.22
